BEGIN:VCALENDAR
VERSION:2.0
PRODID:-//Fun For All Playground at Central Park - College Station, Texas - ECPv6.15.17//NONSGML v1.0//EN
CALSCALE:GREGORIAN
METHOD:PUBLISH
X-WR-CALNAME:Fun For All Playground at Central Park - College Station, Texas
X-ORIGINAL-URL:https://funforallplaygroundbcs.com
X-WR-CALDESC:Events for Fun For All Playground at Central Park - College Station, Texas
REFRESH-INTERVAL;VALUE=DURATION:PT1H
X-Robots-Tag:noindex
X-PUBLISHED-TTL:PT1H
BEGIN:VTIMEZONE
TZID:UTC
BEGIN:STANDARD
TZOFFSETFROM:+0000
TZOFFSETTO:+0000
TZNAME:UTC
DTSTART:20180101T000000
END:STANDARD
END:VTIMEZONE
BEGIN:VEVENT
DTSTART;TZID=UTC:20210728T150000
DTEND;TZID=UTC:20210728T180000
DTSTAMP:20260420T080123
CREATED:20210714T134435Z
LAST-MODIFIED:20210714T134653Z
UID:3074-1627484400-1627495200@funforallplaygroundbcs.com
SUMMARY:Phase II Ribbon Cutting Ceremony
DESCRIPTION:The Fun For All Playground Steering Committee is thrilled to announce the celebration and official ribbon-cutting ceremony for Phase II of the Fun for All Playground. \nDue to the pandemic\, the ribbon-cutting ceremony for Phase II was delayed until now. The Bryan-College Station Chamber of Commerce will conduct the ribbon-cutting ceremony on Wednesday\, July 28\, 2021\, at 4 p.m. at the Fun For All Playground in College Station Central Park. Food\, fun\, and festivities will begin at 3 p.m. Let’s now come together to tour the Carolyn and John David Crow Field and other play units while witnessing our children enjoying the new play spaces and equipment. \nWe set lofty goals and are well on our way to achieving them due to your unwavering support. We thank you sincerely for your generosity. Please join the team as we kick off Phase III. \nTHE BALL’S IN YOUR HAND – CATCH THE SPIRIT!\nFUN FOR ALL – ONE SPACE– ONE PLACE!\nHOT DOGS\, CHIPS\, COOKIES\, AND TREATS! \nDownload Invitation
URL:https://funforallplaygroundbcs.com/event/phase-ii-ribbon-cutting-ceremony/
LOCATION:Fun for All Playground\, 1000 Krenek Tap Road\, College Station\, TX\, 77840\, United States
CATEGORIES:Fun for All Playground News
ATTACH;FMTTYPE=image/jpeg:https://funforallplaygroundbcs.com/wp-content/uploads/2021/01/img_2150-1.jpg
END:VEVENT
BEGIN:VEVENT
DTSTART;VALUE=DATE:20200801
DTEND;VALUE=DATE:20200802
DTSTAMP:20260420T080123
CREATED:20191120T225730Z
LAST-MODIFIED:20191120T225730Z
UID:2930-1596240000-1596326399@funforallplaygroundbcs.com
SUMMARY:Phase 2 Completion
DESCRIPTION:Construction has begun for Phase 2 of the Fun for All Playground. The estimated completion date is late Summer 2020. Click here to learn more about our Master Plan.
URL:https://funforallplaygroundbcs.com/event/phase-2-completion/
LOCATION:TX
CATEGORIES:Fun for All Playground News
ATTACH;FMTTYPE=image/jpeg:https://funforallplaygroundbcs.com/wp-content/uploads/2019/10/Fun-for-All-Playground-Master-Plan.jpg
END:VEVENT
BEGIN:VEVENT
DTSTART;VALUE=DATE:20200301
DTEND;VALUE=DATE:20200302
DTSTAMP:20260420T080123
CREATED:20191120T224200Z
LAST-MODIFIED:20191120T224305Z
UID:2920-1583020800-1583107199@funforallplaygroundbcs.com
SUMMARY:2020 Splash Pad Season Opens
DESCRIPTION:The Splash Pad at the Fun for All Playground is open from March 1st through October 31st. For more information about park hours\, visit our Park Information page.
URL:https://funforallplaygroundbcs.com/event/2020-splash-pad-season-opens/
LOCATION:TX
CATEGORIES:Fun for All Playground News
ATTACH;FMTTYPE=image/jpeg:https://funforallplaygroundbcs.com/wp-content/uploads/2019/08/Splah-Pad-6.jpg
END:VEVENT
BEGIN:VEVENT
DTSTART;TZID=UTC:20191221T150000
DTEND;TZID=UTC:20191221T233000
DTSTAMP:20260420T080123
CREATED:20191120T224751Z
LAST-MODIFIED:20191120T224839Z
UID:2922-1576940400-1576971000@funforallplaygroundbcs.com
SUMMARY:Cocoa for a Cause at Santa's Wonderland
DESCRIPTION:On special weekends throughout the season\, when you purchase a hot cocoa at Santa’s Wonderland you help support one of their signature charity partners! On December 21st\, this partner is the Fun for All Playground. Learn more about this event on their website: https://www.santas-wonderland.com/events 
URL:https://funforallplaygroundbcs.com/event/cocoa-for-a-cause-at-santas-wonderland/
LOCATION:Santa’s Wonderland\, 8898 Hwy 6\, College Station\, TX\, 77845\, United States
CATEGORIES:Fun for All Playground News
ATTACH;FMTTYPE=image/jpeg:https://funforallplaygroundbcs.com/wp-content/uploads/2019/11/74454192_10157854264334445_5086570523597471744_o.jpg
END:VEVENT
END:VCALENDAR